BEGIN:VCALENDAR
VERSION:2.0
PRODID:-//Covalent Logic//Content Management System//EN
BEGIN:VEVENT
UID:1776962594200.COVALENTLOGIC.COM
DTSTART:20190404T230000Z
DTEND:20190404T050000Z
SUMMARY:VENTURE GLOBAL PLAQUEMINES LNG, LLC PUBLIC HEARING
LOCATION:Percy Griffin Community Center, 15577 Hwy 15, Davant, LA 70046
DESCRIPTION:
PRIORITY:5
END:VEVENT
END:VCALENDAR