BEGIN:VCALENDAR
VERSION:2.0
PRODID:-//Covalent Logic//Content Management System//EN
BEGIN:VEVENT
UID:1776719078580.COVALENTLOGIC.COM
DTSTART:20200820T150000Z
DTEND:20200821T045959Z
SUMMARY: Onsite Sewerage System Maintenance, Health & the Environment
LOCATION:Live Webinar
DESCRIPTION:
PRIORITY:5
END:VEVENT
END:VCALENDAR