BEGIN:VCALENDAR
VERSION:2.0
PRODID:-//Covalent Logic//Content Management System//EN
BEGIN:VEVENT
UID:1776732739614.COVALENTLOGIC.COM
DTSTART:20210504T230000Z
DTEND:20210505T045900Z
SUMMARY:LA Storage, LLC-Pelican Compressor Station Public Hearing
LOCATION:New Hackberry Community Center Conference Room, 980 Main Street, Hackberry, LA 70645
DESCRIPTION:
PRIORITY:5
END:VEVENT
END:VCALENDAR