BEGIN:VCALENDAR
VERSION:2.0
PRODID:-//Covalent Logic//Content Management System//EN
BEGIN:VEVENT
UID:1776999257136.COVALENTLOGIC.COM
DTSTART:20211021T230000Z
DTEND:20211022T045900Z
SUMMARY:Chaney Trucking & Equipment Rental, Inc. - Type III C&D Landfill Public Hearing
LOCATION:City Council Chambers, 326 Pujo Street, Lake Charles, LA  70601
DESCRIPTION:
PRIORITY:5
END:VEVENT
END:VCALENDAR