BEGIN:VCALENDAR
VERSION:2.0
PRODID:-//Covalent Logic//Content Management System//EN
BEGIN:VEVENT
UID:1776807485588.COVALENTLOGIC.COM
DTSTART:20230330T230000Z
DTEND:20230331T045900Z
SUMMARY:Waste Management of Louisiana, LCC, Woodside Landfill & Recycling Center Public Hearing
LOCATION:Livingston Parish Council Chambers, 20355 Government Blvd., Livingston , LA  70754
DESCRIPTION:
PRIORITY:5
END:VEVENT
END:VCALENDAR