BEGIN:VCALENDAR
VERSION:2.0
PRODID:-//Covalent Logic//Content Management System//EN
BEGIN:VEVENT
UID:1776821412065.COVALENTLOGIC.COM
DTSTART:20240416T230000Z
DTEND:20240417T045900Z
SUMMARY:Providence Parks Development, LLC - Wastewater Treatment Plant Public Hearing
LOCATION:Covington City Council Chambers, 222 East Kirkland Street, Covington , LA 70433
DESCRIPTION:
PRIORITY:5
END:VEVENT
END:VCALENDAR