BEGIN:VCALENDAR
VERSION:2.0
PRODID:-//Covalent Logic//Content Management System//EN
BEGIN:VEVENT
UID:1777124611312.COVALENTLOGIC.COM
DTSTART:20260204T190000Z
DTEND:20260204T213000Z
SUMMARY:Reporting 101: The Ins and Outs of Discharge Monitoring
LOCATION:WEBINAR via Microsoft Teams, LA 
DESCRIPTION:
PRIORITY:5
END:VEVENT
END:VCALENDAR