BEGIN:VCALENDAR
VERSION:2.0
PRODID:-//Covalent Logic//Content Management System//EN
BEGIN:VEVENT
UID:1776709281639.COVALENTLOGIC.COM
DTSTART:20260507T183000Z
DTEND:20260508T045959Z
SUMMARY:UST Worker Certification Closure Exam
LOCATION:LDEQ Headquarters, 602 North Fifth Street , Baton Rouge, Louisiana 70802
DESCRIPTION:
PRIORITY:5
END:VEVENT
END:VCALENDAR