BEGIN:VCALENDAR
VERSION:2.0
PRODID:-//Covalent Logic//Content Management System//EN
BEGIN:VEVENT
UID:1776962813800.COVALENTLOGIC.COM
DTSTART:20260306T000000Z
DTEND:20260306T055900Z
SUMMARY:LA Energy Gateway, LLC/Gillis Treating - Carbon Capture and Sequestration (CSS) Facility
LOCATION:South Beauregard Recreation District 2 - Community Center, 6719 Hwy 12, Ragley, LA 70657
DESCRIPTION:
PRIORITY:5
END:VEVENT
END:VCALENDAR